BEGIN:VCALENDAR
VERSION:2.0
PRODID:icalendar-ruby
CALSCALE:GREGORIAN
METHOD:PUBLISH
BEGIN:VEVENT
DTSTAMP:20260423T055646Z
UID:50-856617@lcbcmidlothian.org
DTSTART:20260823T143000Z
DTEND:20260823T154000Z
CLASS:PUBLIC
CREATED:20260422T205728
DESCRIPTION:Join us each Sunday morning. We gather in the foyer of the Wors
 hip center for Donuts\, coffee\, and a time of visitation. Then we move on
  to our individual Bible Study Groups for a time of prayer and Bible Study
 . 
LAST-MODIFIED:20260422T205728
LOCATION:
SUMMARY:Bible Study
URL;VALUE=URI:https://www.lcbcmidlothian.org/events/bible-study/2026-08-23
ATTACH;FILENAME=Bible Study.png;FMTTYPE=image/png:https://dq5pwpg1q8ru0.clo
 udfront.net/2025/08/07/18/56/17/d9375940-faa8-4473-8f39-132cce873ddc/Bible
 %20Study.png
END:VEVENT
END:VCALENDAR
