BEGIN:VCALENDAR
VERSION:2.0
PRODID:icalendar-ruby
CALSCALE:GREGORIAN
METHOD:PUBLISH
BEGIN:VEVENT
DTSTAMP:20260423T084217Z
UID:48-856329@lcbcmidlothian.org
DTSTART:20260917T123000Z
DTEND:20260917T140000Z
CLASS:PUBLIC
CREATED:20260422T205728
DESCRIPTION:
LAST-MODIFIED:20260422T205728
LOCATION:200 Longbranch Rd Midlothian 76065 TXUS
SUMMARY:Drive-Thru Prayer Experience
URL;VALUE=URI:https://www.lcbcmidlothian.org/events/drive-thru-prayer-exper
 ience--48/2026-09-17
ATTACH;FILENAME=Drive through prayer.png;FMTTYPE=image/png:https://dq5pwpg1
 q8ru0.cloudfront.net/2024/01/04/08/46/43/440f9bd7-4027-45be-97e9-48e1e80bf
 800/Drive%20through%20prayer.png
END:VEVENT
END:VCALENDAR
